BEGIN:VCALENDAR
VERSION:2.0
PRODID:-//Vänsterpartiet Sundsvall - ECPv6.15.17.1//NONSGML v1.0//EN
CALSCALE:GREGORIAN
METHOD:PUBLISH
X-WR-CALNAME:Vänsterpartiet Sundsvall
X-ORIGINAL-URL:https://sundsvall.vansterpartiet.se
X-WR-CALDESC:Händelser för Vänsterpartiet Sundsvall
REFRESH-INTERVAL;VALUE=DURATION:PT1H
X-Robots-Tag:noindex
X-PUBLISHED-TTL:PT1H
BEGIN:VTIMEZONE
TZID:Europe/Stockholm
BEGIN:DAYLIGHT
TZOFFSETFROM:+0100
TZOFFSETTO:+0200
TZNAME:CEST
DTSTART:20200329T010000
END:DAYLIGHT
BEGIN:STANDARD
TZOFFSETFROM:+0200
TZOFFSETTO:+0100
TZNAME:CET
DTSTART:20201025T010000
END:STANDARD
BEGIN:DAYLIGHT
TZOFFSETFROM:+0100
TZOFFSETTO:+0200
TZNAME:CEST
DTSTART:20210328T010000
END:DAYLIGHT
BEGIN:STANDARD
TZOFFSETFROM:+0200
TZOFFSETTO:+0100
TZNAME:CET
DTSTART:20211031T010000
END:STANDARD
BEGIN:DAYLIGHT
TZOFFSETFROM:+0100
TZOFFSETTO:+0200
TZNAME:CEST
DTSTART:20220327T010000
END:DAYLIGHT
BEGIN:STANDARD
TZOFFSETFROM:+0200
TZOFFSETTO:+0100
TZNAME:CET
DTSTART:20221030T010000
END:STANDARD
END:VTIMEZONE
BEGIN:VEVENT
DTSTART;TZID=Europe/Stockholm:20211019T173000
DTEND;TZID=Europe/Stockholm:20211019T190000
DTSTAMP:20260421T113210
CREATED:20211006T124153Z
LAST-MODIFIED:20211006T124153Z
UID:2837-1634664600-1634670000@sundsvall.vansterpartiet.se
SUMMARY:Kommunpolitik - vad är det egentligen?
DESCRIPTION:Är du nyfiken på vad det innebär att vara kommunpolitiker? Har du själv funderat på att ta på dig ett förtroendeuppdrag för partiet? Då är detta tillfället för dig!\nIsabell Mixter\, gruppledare för Vänsterpartiet i Sundsvall berättar om vad det innebär att vara förtroendevald och du får chans att få svar på alla dina frågor.\nAlla medlemmar är välkomna att delta!
URL:https://sundsvall.vansterpartiet.se/event/kommunpolitik-vad-ar-det-egentligen/
LOCATION:Storgatan 56A\, Sundsvall\, Storgatan 56A\, Sundsvall\, Sundsvall\, Sverige
ATTACH;FMTTYPE=image/jpeg:https://sundsvall.vansterpartiet.se/files/2021/10/kommunpolitik-mote-2.jpg
END:VEVENT
BEGIN:VEVENT
DTSTART;TZID=Europe/Stockholm:20211016T100000
DTEND;TZID=Europe/Stockholm:20211016T170000
DTSTAMP:20260421T113210
CREATED:20211006T124603Z
LAST-MODIFIED:20211006T124603Z
UID:2846-1634378400-1634403600@sundsvall.vansterpartiet.se
SUMMARY:Höstkonferens
DESCRIPTION:Distriktet anordnar höstkonferens i Söråker\, om du är intresserad av att delta maila ordförande i partiföreningen\, Klara Hedin.
URL:https://sundsvall.vansterpartiet.se/event/hostkonferens/
END:VEVENT
BEGIN:VEVENT
DTSTART;TZID=Europe/Stockholm:20211012T173000
DTEND;TZID=Europe/Stockholm:20211012T190000
DTSTAMP:20260421T113210
CREATED:20211006T125424Z
LAST-MODIFIED:20211006T125424Z
UID:2849-1634059800-1634065200@sundsvall.vansterpartiet.se
SUMMARY:Öppen partilokal
DESCRIPTION:Denna tisdag är det fritt fram att droppa in på partilokalen\, ta en kaffe och prata politik med oss.
URL:https://sundsvall.vansterpartiet.se/event/oppen-partilokal/
LOCATION:Storgatan 56A\, Sundsvall\, Storgatan 56A\, Sundsvall\, Sundsvall\, Sverige
END:VEVENT
BEGIN:VEVENT
DTSTART;TZID=Europe/Stockholm:20211007T170000
DTEND;TZID=Europe/Stockholm:20211007T200000
DTSTAMP:20260421T113210
CREATED:20211006T124443Z
LAST-MODIFIED:20211006T124443Z
UID:2844-1633626000-1633636800@sundsvall.vansterpartiet.se
SUMMARY:Gruppmöte kommunala gruppen
DESCRIPTION:Kommunala gruppen träffas för att diskutera politiska ärenden i kommunen.
URL:https://sundsvall.vansterpartiet.se/event/gruppmote-kommunala-gruppen/
END:VEVENT
BEGIN:VEVENT
DTSTART;TZID=Europe/Stockholm:20210610T180000
DTEND;TZID=Europe/Stockholm:20210610T200000
DTSTAMP:20260421T113210
CREATED:20210505T104555Z
LAST-MODIFIED:20210505T104555Z
UID:2803-1623348000-1623355200@sundsvall.vansterpartiet.se
SUMMARY:Gruppmöte för kommunpolitiker
DESCRIPTION:Gruppmöte för alla med politiska uppdrag i kommunen.\nVi träffas digitalt och diskuterar aktuella frågor på väg upp.\nKallelse skickas via mail.\nHar du frågor kring kommunpolitiken?\nMaila gruppledaren: Isabellmixter@sundsvall.se
URL:https://sundsvall.vansterpartiet.se/event/gruppmote-for-kommunpolitiker-2/
END:VEVENT
BEGIN:VEVENT
DTSTART;TZID=Europe/Stockholm:20210524T180000
DTEND;TZID=Europe/Stockholm:20210524T200000
DTSTAMP:20260421T113210
CREATED:20210505T102614Z
LAST-MODIFIED:20210520T081212Z
UID:2793-1621879200-1621886400@sundsvall.vansterpartiet.se
SUMMARY:Nooshi Dadgostar besöker Vänsterpartiet Sundsvall
DESCRIPTION:Den 24/5 är det dags för ett digitalt medlemsmöte igen. Denna månad får vi besök utav ingen mindre än vår partiledare Nooshi Dadgostar. Så passa på att lyssna till henne och ställ dina frågor.\nLänk till mötet kommer att skickas ut via mail närmare.\nÄr du inte medlem ännu men önskar vara med? Än är det inte för sent\, bli medlem här:https://vansterpartietweb.azurewebsites.net/#/newregister
URL:https://sundsvall.vansterpartiet.se/event/nooshi-dadgostar-besoker-vansterpartiet-sundsvall/
ATTACH;FMTTYPE=image/jpeg:https://sundsvall.vansterpartiet.se/files/2021/05/7eec0f49-6965-4d31-a4b8-9b9216f27916.jpg
END:VEVENT
BEGIN:VEVENT
DTSTART;TZID=Europe/Stockholm:20210427T180000
DTEND;TZID=Europe/Stockholm:20210427T200000
DTSTAMP:20260421T113210
CREATED:20210426T125016Z
LAST-MODIFIED:20210426T125016Z
UID:2776-1619546400-1619553600@sundsvall.vansterpartiet.se
SUMMARY:Medlemsmöte
DESCRIPTION:Välkommen på digitalt medlemsmöte. Kvällens fokus är valet 2022. Vi börjar nosa på vilka frågor vi vill driva i valet lokalt i Sundsvall under ett första möte kring detta. Var med och tyck till!\nLänk till mötet är utsänt via mail till alla medlemmar\, om inte eller via andra problem maila till sundsvall@vansterpartiet.se
URL:https://sundsvall.vansterpartiet.se/event/medlemsmote-2/
END:VEVENT
END:VCALENDAR