BEGIN:VCALENDAR
VERSION:2.0
PRODID:-//Vänsterpartiet Sundsvall - ECPv6.15.17.1//NONSGML v1.0//EN
CALSCALE:GREGORIAN
METHOD:PUBLISH
X-WR-CALNAME:Vänsterpartiet Sundsvall
X-ORIGINAL-URL:https://sundsvall.vansterpartiet.se
X-WR-CALDESC:Händelser för Vänsterpartiet Sundsvall
REFRESH-INTERVAL;VALUE=DURATION:PT1H
X-Robots-Tag:noindex
X-PUBLISHED-TTL:PT1H
BEGIN:VTIMEZONE
TZID:Europe/Stockholm
BEGIN:DAYLIGHT
TZOFFSETFROM:+0100
TZOFFSETTO:+0200
TZNAME:CEST
DTSTART:20200329T010000
END:DAYLIGHT
BEGIN:STANDARD
TZOFFSETFROM:+0200
TZOFFSETTO:+0100
TZNAME:CET
DTSTART:20201025T010000
END:STANDARD
BEGIN:DAYLIGHT
TZOFFSETFROM:+0100
TZOFFSETTO:+0200
TZNAME:CEST
DTSTART:20210328T010000
END:DAYLIGHT
BEGIN:STANDARD
TZOFFSETFROM:+0200
TZOFFSETTO:+0100
TZNAME:CET
DTSTART:20211031T010000
END:STANDARD
BEGIN:DAYLIGHT
TZOFFSETFROM:+0100
TZOFFSETTO:+0200
TZNAME:CEST
DTSTART:20220327T010000
END:DAYLIGHT
BEGIN:STANDARD
TZOFFSETFROM:+0200
TZOFFSETTO:+0100
TZNAME:CET
DTSTART:20221030T010000
END:STANDARD
BEGIN:DAYLIGHT
TZOFFSETFROM:+0100
TZOFFSETTO:+0200
TZNAME:CEST
DTSTART:20230326T010000
END:DAYLIGHT
BEGIN:STANDARD
TZOFFSETFROM:+0200
TZOFFSETTO:+0100
TZNAME:CET
DTSTART:20231029T010000
END:STANDARD
END:VTIMEZONE
BEGIN:VEVENT
DTSTART;TZID=Europe/Stockholm:20220801T160000
DTEND;TZID=Europe/Stockholm:20220801T200000
DTSTAMP:20260421T101723
CREATED:20220801T090927Z
LAST-MODIFIED:20220801T090927Z
UID:3063-1659369600-1659384000@sundsvall.vansterpartiet.se
SUMMARY:VALUPPTAKT
DESCRIPTION:Efter årets pridetåg som är samma datum är det äntligen dags för vår valupptakt.\nVi bjuder på mat och det kommer att vara quiz\, livemusik och peppande stämning.\nAnmäl dig via: sundsvall@vansterpartiet.se\nEvenemanget är öppet för såväl medlemmar som sympatisörer!
URL:https://sundsvall.vansterpartiet.se/event/valupptakt/
LOCATION:Södra järnvägsgatan 25\, Södra Järnvägsgatan 25\, Sundsvall\, Sverige
ATTACH;FMTTYPE=image/jpeg:https://sundsvall.vansterpartiet.se/files/2022/08/VALUPPTAKT-e1659344953655.jpg
END:VEVENT
BEGIN:VEVENT
DTSTART;TZID=Europe/Stockholm:20220501T113000
DTEND;TZID=Europe/Stockholm:20220501T170000
DTSTAMP:20260421T101723
CREATED:20220421T102430Z
LAST-MODIFIED:20220427T090714Z
UID:2945-1651404600-1651424400@sundsvall.vansterpartiet.se
SUMMARY:1 MAJ
DESCRIPTION:Äntligen får vi träffas tillsammans igen för att fira första maj! Välkommen att delta med vänsterpartiet i Sundsvall. \n \n  \n11.45 uppsamling på storgatan 1\n12.00 avmarsch från storgatan 1\n12.30 samling på stora torget för tal och underhållning\n14.00 fika på pipeline tillsammans med asylkommittén \nArtist på stora torget är:\nJOAKIM GISSBERG\n \n 
URL:https://sundsvall.vansterpartiet.se/event/1-maj/
LOCATION:Storgatan 1 Sundsvall
END:VEVENT
BEGIN:VEVENT
DTSTART;TZID=Europe/Stockholm:20220308T180000
DTEND;TZID=Europe/Stockholm:20220308T200000
DTSTAMP:20260421T101723
CREATED:20220302T110131Z
LAST-MODIFIED:20220302T110131Z
UID:2928-1646762400-1646769600@sundsvall.vansterpartiet.se
SUMMARY:8 mars - värdigt och tryggt på våra villkor
DESCRIPTION:Temat för årets 8 mars firande är förlossningsvården och det det ska vara ”värdigt och tryggt på våra villkor”.\nVänsterpartiet Sundsvall har partilokalen öppen under denna kväll och bjuder på pizza och ett kvinnohistoriskt quiz.\nAlla är välkomna\, så väl medlemmar som ickemedlemmar.
URL:https://sundsvall.vansterpartiet.se/event/8-mars-vardigt-och-tryggt-pa-vara-villkor/
LOCATION:Storgatan 56A\, Sundsvall\, Storgatan 56A\, Sundsvall\, Sundsvall\, Sverige
ATTACH;FMTTYPE=image/png:https://sundsvall.vansterpartiet.se/files/2022/03/8-mars-1.png
END:VEVENT
BEGIN:VEVENT
DTSTART;TZID=Europe/Stockholm:20220306T130000
DTEND;TZID=Europe/Stockholm:20220306T160000
DTSTAMP:20260421T101723
CREATED:20220223T130759Z
LAST-MODIFIED:20220223T131102Z
UID:2909-1646571600-1646582400@sundsvall.vansterpartiet.se
SUMMARY:Årsmöte
DESCRIPTION:Vi hälsar både gamla och nya medlemmar välkomna till årsmöte 2022\, vänsterpartiet i Sundsvall. \nÅrsmötet är partiföreningens högsta beslutande organ. Vi använder årsmötet dels till att titta på vad föreningen och styrelsen har arbetat med under det senaste året\, hur föreningens pengar har använts och om allt har gått riktigt till. I så fall beviljar årsmötet den avgående styrelsen ansvarsfrihet. Sedan ska vi välja en ny ordförande\, kassör och övriga styrelseledamöter samt revisorer och valberedning och också besluta om vad föreningen ska fokusera på under det kommande året – vi sätter upp en verksamhetsplan. \nÄven val av kandidater till kommunlistan kommer att ske under årsmötet. \nDet är medlemmar som har betalat sin medlemsavgift som har rätt att avge sin röst på årsmötet. \nMötet kommer att ske fysiskt och inte finnas möjlighet till digital uppkoppling\, om du är i behov av barnpassning meddela styrelsen detta genom klara.hedin@hotmail.com senast den 1a mars. \nInför årsmötet finns det möjlighet att nominera till följande uppdrag: Ordförande\, kassör och styrelseledamöter\,  revisorer\, valberedning och inte minst kandidater till kommunlistan. Maila valberedningen genom: Elisabet.Finne@gmail.com \nVi uppmanar också våra medlemmar att motionera på valplattformen. Om ni har motioner som ni vill ska behandlas av styrelsen innan ska dessa vara styrelsen tillhanda senast den 28 februari kl. 16.30. Motioner skickas till klara.hedin@hotmail.com
URL:https://sundsvall.vansterpartiet.se/event/arsmote/
LOCATION:Eq house\, Medborgargatan 35\, Sundsvall\, 85630
ATTACH;FMTTYPE=image/png:https://sundsvall.vansterpartiet.se/files/2022/02/Årsmöte-och-balkongerna-2022.png
END:VEVENT
BEGIN:VEVENT
DTSTART;TZID=Europe/Stockholm:20211130T180000
DTEND;TZID=Europe/Stockholm:20211130T200000
DTSTAMP:20260421T101723
CREATED:20211021T082418Z
LAST-MODIFIED:20211021T082418Z
UID:2894-1638295200-1638302400@sundsvall.vansterpartiet.se
SUMMARY:Medlemsmöte
DESCRIPTION:November månads medlemsmöte!\nKom och påverka!
URL:https://sundsvall.vansterpartiet.se/event/medlemsmote/
LOCATION:Storgatan 56A\, Sundsvall\, Storgatan 56A\, Sundsvall\, Sundsvall\, Sverige
ATTACH;FMTTYPE=image/jpeg:https://sundsvall.vansterpartiet.se/files/2021/04/86790888_2942640705805652_8517576543524880384_n.jpg
END:VEVENT
BEGIN:VEVENT
DTSTART;TZID=Europe/Stockholm:20211123T073000
DTEND;TZID=Europe/Stockholm:20211123T193000
DTSTAMP:20260421T101723
CREATED:20211021T081532Z
LAST-MODIFIED:20211021T081559Z
UID:2892-1637652600-1637695800@sundsvall.vansterpartiet.se
SUMMARY:Öppen partilokal - soppa och böcker
DESCRIPTION:Som vanligt på tisdagar är partilokalen öppen mellan 17:30-19:30.\nUnder november månad kommer det vara extra trevligt på partilokalen\, då bjuder vi på soppa och har bokbytarmånad. Välkommen!
URL:https://sundsvall.vansterpartiet.se/event/oppen-partilokal-soppa-och-bocker-3/
ATTACH;FMTTYPE=image/jpeg:https://sundsvall.vansterpartiet.se/files/2021/10/soppa-och-bokbyte.jpg
END:VEVENT
BEGIN:VEVENT
DTSTART;TZID=Europe/Stockholm:20211116T173000
DTEND;TZID=Europe/Stockholm:20211116T193000
DTSTAMP:20260421T101723
CREATED:20211021T081414Z
LAST-MODIFIED:20211021T081414Z
UID:2888-1637083800-1637091000@sundsvall.vansterpartiet.se
SUMMARY:Öppen partilokal - soppa och böcker
DESCRIPTION:Som vanligt på tisdagar är partilokalen öppen mellan 17:30-19:30.\nUnder november månad kommer det vara extra trevligt på partilokalen\, då bjuder vi på soppa och har bokbytarmånad. Välkommen!
URL:https://sundsvall.vansterpartiet.se/event/oppen-partilokal-soppa-och-bocker/
LOCATION:Storgatan 56A\, Sundsvall\, Storgatan 56A\, Sundsvall\, Sundsvall\, Sverige
ATTACH;FMTTYPE=image/jpeg:https://sundsvall.vansterpartiet.se/files/2021/10/soppa-och-bokbyte.jpg
END:VEVENT
BEGIN:VEVENT
DTSTART;TZID=Europe/Stockholm:20211109T173000
DTEND;TZID=Europe/Stockholm:20211109T193000
DTSTAMP:20260421T101723
CREATED:20211021T081242Z
LAST-MODIFIED:20211021T081242Z
UID:2886-1636479000-1636486200@sundsvall.vansterpartiet.se
SUMMARY:Öppen partilokal - soppa och bokbyte
DESCRIPTION:Som vanligt på tisdagar är partilokalen öppen mellan 17:30-19:30.\nUnder november månad kommer det vara extra trevligt på partilokalen\, då bjuder vi på soppa och har bokbytarmånad. Välkommen!
URL:https://sundsvall.vansterpartiet.se/event/oppen-partilokal-soppa-och-bokbyte-2/
LOCATION:Storgatan 56A\, Sundsvall\, Storgatan 56A\, Sundsvall\, Sundsvall\, Sverige
ATTACH;FMTTYPE=image/jpeg:https://sundsvall.vansterpartiet.se/files/2021/10/soppa-och-bokbyte.jpg
END:VEVENT
BEGIN:VEVENT
DTSTART;TZID=Europe/Stockholm:20211102T173000
DTEND;TZID=Europe/Stockholm:20211102T193000
DTSTAMP:20260421T101723
CREATED:20211021T080247Z
LAST-MODIFIED:20211021T080247Z
UID:2883-1635874200-1635881400@sundsvall.vansterpartiet.se
SUMMARY:Öppen partilokal - soppa och bokbyte
DESCRIPTION:Som vanligt på tisdagar är partilokalen öppen mellan 17:30-19:30.\nUnder november månad kommer det vara extra trevligt på partilokalen\, då bjuder vi på soppa och har bokbytarmånad. Välkommen!
URL:https://sundsvall.vansterpartiet.se/event/oppen-partilokal-soppa-och-bokbyte/
ATTACH;FMTTYPE=image/jpeg:https://sundsvall.vansterpartiet.se/files/2021/10/soppa-och-bokbyte.jpg
END:VEVENT
BEGIN:VEVENT
DTSTART;TZID=Europe/Stockholm:20211026T180000
DTEND;TZID=Europe/Stockholm:20211026T200000
DTSTAMP:20260421T101723
CREATED:20211006T124328Z
LAST-MODIFIED:20211006T124328Z
UID:2842-1635271200-1635278400@sundsvall.vansterpartiet.se
SUMMARY:Medlemsmöte - tema klimat
DESCRIPTION:Välkommen till månadens medlemsmöte med tema klimat!\nMer information om inbjuden gäst kommer längre fram.
URL:https://sundsvall.vansterpartiet.se/event/medlemsmote-tema-klimat/
LOCATION:Storgatan 56A\, Sundsvall\, Storgatan 56A\, Sundsvall\, Sundsvall\, Sverige
END:VEVENT
BEGIN:VEVENT
DTSTART;TZID=Europe/Stockholm:20211019T173000
DTEND;TZID=Europe/Stockholm:20211019T190000
DTSTAMP:20260421T101723
CREATED:20211006T124153Z
LAST-MODIFIED:20211006T124153Z
UID:2837-1634664600-1634670000@sundsvall.vansterpartiet.se
SUMMARY:Kommunpolitik - vad är det egentligen?
DESCRIPTION:Är du nyfiken på vad det innebär att vara kommunpolitiker? Har du själv funderat på att ta på dig ett förtroendeuppdrag för partiet? Då är detta tillfället för dig!\nIsabell Mixter\, gruppledare för Vänsterpartiet i Sundsvall berättar om vad det innebär att vara förtroendevald och du får chans att få svar på alla dina frågor.\nAlla medlemmar är välkomna att delta!
URL:https://sundsvall.vansterpartiet.se/event/kommunpolitik-vad-ar-det-egentligen/
LOCATION:Storgatan 56A\, Sundsvall\, Storgatan 56A\, Sundsvall\, Sundsvall\, Sverige
ATTACH;FMTTYPE=image/jpeg:https://sundsvall.vansterpartiet.se/files/2021/10/kommunpolitik-mote-2.jpg
END:VEVENT
BEGIN:VEVENT
DTSTART;TZID=Europe/Stockholm:20211016T100000
DTEND;TZID=Europe/Stockholm:20211016T170000
DTSTAMP:20260421T101723
CREATED:20211006T124603Z
LAST-MODIFIED:20211006T124603Z
UID:2846-1634378400-1634403600@sundsvall.vansterpartiet.se
SUMMARY:Höstkonferens
DESCRIPTION:Distriktet anordnar höstkonferens i Söråker\, om du är intresserad av att delta maila ordförande i partiföreningen\, Klara Hedin.
URL:https://sundsvall.vansterpartiet.se/event/hostkonferens/
END:VEVENT
BEGIN:VEVENT
DTSTART;TZID=Europe/Stockholm:20211012T173000
DTEND;TZID=Europe/Stockholm:20211012T190000
DTSTAMP:20260421T101723
CREATED:20211006T125424Z
LAST-MODIFIED:20211006T125424Z
UID:2849-1634059800-1634065200@sundsvall.vansterpartiet.se
SUMMARY:Öppen partilokal
DESCRIPTION:Denna tisdag är det fritt fram att droppa in på partilokalen\, ta en kaffe och prata politik med oss.
URL:https://sundsvall.vansterpartiet.se/event/oppen-partilokal/
LOCATION:Storgatan 56A\, Sundsvall\, Storgatan 56A\, Sundsvall\, Sundsvall\, Sverige
END:VEVENT
BEGIN:VEVENT
DTSTART;TZID=Europe/Stockholm:20211007T170000
DTEND;TZID=Europe/Stockholm:20211007T200000
DTSTAMP:20260421T101723
CREATED:20211006T124443Z
LAST-MODIFIED:20211006T124443Z
UID:2844-1633626000-1633636800@sundsvall.vansterpartiet.se
SUMMARY:Gruppmöte kommunala gruppen
DESCRIPTION:Kommunala gruppen träffas för att diskutera politiska ärenden i kommunen.
URL:https://sundsvall.vansterpartiet.se/event/gruppmote-kommunala-gruppen/
END:VEVENT
BEGIN:VEVENT
DTSTART;TZID=Europe/Stockholm:20210610T180000
DTEND;TZID=Europe/Stockholm:20210610T200000
DTSTAMP:20260421T101723
CREATED:20210505T104555Z
LAST-MODIFIED:20210505T104555Z
UID:2803-1623348000-1623355200@sundsvall.vansterpartiet.se
SUMMARY:Gruppmöte för kommunpolitiker
DESCRIPTION:Gruppmöte för alla med politiska uppdrag i kommunen.\nVi träffas digitalt och diskuterar aktuella frågor på väg upp.\nKallelse skickas via mail.\nHar du frågor kring kommunpolitiken?\nMaila gruppledaren: Isabellmixter@sundsvall.se
URL:https://sundsvall.vansterpartiet.se/event/gruppmote-for-kommunpolitiker-2/
END:VEVENT
BEGIN:VEVENT
DTSTART;TZID=Europe/Stockholm:20210524T180000
DTEND;TZID=Europe/Stockholm:20210524T200000
DTSTAMP:20260421T101723
CREATED:20210505T102614Z
LAST-MODIFIED:20210520T081212Z
UID:2793-1621879200-1621886400@sundsvall.vansterpartiet.se
SUMMARY:Nooshi Dadgostar besöker Vänsterpartiet Sundsvall
DESCRIPTION:Den 24/5 är det dags för ett digitalt medlemsmöte igen. Denna månad får vi besök utav ingen mindre än vår partiledare Nooshi Dadgostar. Så passa på att lyssna till henne och ställ dina frågor.\nLänk till mötet kommer att skickas ut via mail närmare.\nÄr du inte medlem ännu men önskar vara med? Än är det inte för sent\, bli medlem här:https://vansterpartietweb.azurewebsites.net/#/newregister
URL:https://sundsvall.vansterpartiet.se/event/nooshi-dadgostar-besoker-vansterpartiet-sundsvall/
ATTACH;FMTTYPE=image/jpeg:https://sundsvall.vansterpartiet.se/files/2021/05/7eec0f49-6965-4d31-a4b8-9b9216f27916.jpg
END:VEVENT
BEGIN:VEVENT
DTSTART;TZID=Europe/Stockholm:20210427T180000
DTEND;TZID=Europe/Stockholm:20210427T200000
DTSTAMP:20260421T101723
CREATED:20210426T125016Z
LAST-MODIFIED:20210426T125016Z
UID:2776-1619546400-1619553600@sundsvall.vansterpartiet.se
SUMMARY:Medlemsmöte
DESCRIPTION:Välkommen på digitalt medlemsmöte. Kvällens fokus är valet 2022. Vi börjar nosa på vilka frågor vi vill driva i valet lokalt i Sundsvall under ett första möte kring detta. Var med och tyck till!\nLänk till mötet är utsänt via mail till alla medlemmar\, om inte eller via andra problem maila till sundsvall@vansterpartiet.se
URL:https://sundsvall.vansterpartiet.se/event/medlemsmote-2/
END:VEVENT
END:VCALENDAR